BEGIN:VCALENDAR
VERSION:2.0
PRODID:-//BikeSportBühne Bayreuth e.V. - ECPv6.15.20//NONSGML v1.0//EN
CALSCALE:GREGORIAN
METHOD:PUBLISH
X-WR-CALNAME:BikeSportBühne Bayreuth e.V.
X-ORIGINAL-URL:https://bikesportbuehne.de
X-WR-CALDESC:Veranstaltungen für BikeSportBühne Bayreuth e.V.
REFRESH-INTERVAL;VALUE=DURATION:PT1H
X-Robots-Tag:noindex
X-PUBLISHED-TTL:PT1H
BEGIN:VTIMEZONE
TZID:UTC
BEGIN:STANDARD
TZOFFSETFROM:+0000
TZOFFSETTO:+0000
TZNAME:UTC
DTSTART:20230101T000000
END:STANDARD
END:VTIMEZONE
BEGIN:VEVENT
DTSTART;VALUE=DATE:20240907
DTEND;VALUE=DATE:20240908
DTSTAMP:20260421T233936
CREATED:20240303T163525Z
LAST-MODIFIED:20240303T163525Z
UID:3752-1725667200-1725753599@bikesportbuehne.de
SUMMARY:#9 CUBE-Cup Hof
DESCRIPTION:–> Infos
URL:https://bikesportbuehne.de/event/9-cube-cup-hof-2/
CATEGORIES:Renntermine
END:VEVENT
BEGIN:VEVENT
DTSTART;VALUE=DATE:20240914
DTEND;VALUE=DATE:20240915
DTSTAMP:20260421T233936
CREATED:20240303T163644Z
LAST-MODIFIED:20240303T163644Z
UID:3754-1726272000-1726358399@bikesportbuehne.de
SUMMARY:#10 CUBE-Cup Eger
DESCRIPTION:ab U17 \n–> Infos
URL:https://bikesportbuehne.de/event/10-cube-cup-eger/
CATEGORIES:Renntermine
END:VEVENT
BEGIN:VEVENT
DTSTART;VALUE=DATE:20240915
DTEND;VALUE=DATE:20240916
DTSTAMP:20260421T233936
CREATED:20240303T163735Z
LAST-MODIFIED:20240916T161241Z
UID:3756-1726358400-1726444799@bikesportbuehne.de
SUMMARY:#11 CUBE-Cup Schneckenlohe
DESCRIPTION:U7w: 1. Helena\, 8. Luisa \nU7m: 5. Ilmo\, 19. Theo \nU9w: 1. Nila \nU9m:  3. Jakob\, 6. Enno\, 21. Emil \nU11m: 1. Leo\, 2. Toni\, 5. Luca\, 8. Bèla\, 16. Philipp \nU13m: 1. Levi S.\, 2. Levi N.\, 17. Mika \nU15w: 3. Hannah \nU15m: 3. Lenny \nU17w: 2. Laura \nStaffel: 2. BSB (Hannah\, Leo\, Levi S.) \nHier findet ihr die vollständigen Ergebnisse
URL:https://bikesportbuehne.de/event/11-cube-cup-schneckenlohe/
CATEGORIES:Renntermine
END:VEVENT
BEGIN:VEVENT
DTSTART;VALUE=DATE:20240922
DTEND;VALUE=DATE:20240923
DTSTAMP:20260421T233936
CREATED:20240303T163831Z
LAST-MODIFIED:20240923T170622Z
UID:3758-1726963200-1727049599@bikesportbuehne.de
SUMMARY:#12 CUBE-Cup Baunach
DESCRIPTION:Mit dem Wechsel auf das Trainingsgelände der Veitensteinbiker hieß es erst einmal die neuen Strecken abfahren. In der U7 und U9 ging es in der Nähe des Sportplatzes über Wege\, Trails und die ein oder andere enge Kurve. Bereits ab der U11 waren alle besonders in den deftigen Anstiegen gefordert\, hier gab es viele Positionswechsel. Der Bikepark mit Baumstämmen\, Steinfeld und kleinem Drop\, war ab der U15 Bestandteil der Strecke. \nUnsere 18 Starter haben alle hart gekämpft und damit beim Rennen am 22.09.24 in Baunach/Priegendorf insgesamt 4 Siege und 3 weitere Podestplätze eingefahren. \nDie Ergebnisse im Einzelnen: \nU7w: 1. Helena\, 9. Luisa\, U7m: 7. Ilmo\, 22. Theo \nU9w: 1. Nila\, U9m:  2. Jakob\, 15. Emil \nU11m: 1. Leo\, 3. Luca\, 4. Toni\, 9. Bèla\, 16. Philipp \nU13m: 5. Levi N.\, 16. Nils\, 22. Mika \nU15w: 1. Hannah\, U15m: 5. Lenny \nU17w: 1. Laura \nStaffel: 3. (Hannah\, Leo\, Levi N.) \nAuf das Livetracking der Zwischenstände und Ergebnisse wurde mit QR-Codes hingewiesen\, bei fehlendem Empfang gestaltete sich dies jedoch als schwieriges Unterfangen. \nKommende Woche steht das Saisonfinale in Scheßlitz an. Wir hoffen auf gute Bedingungen und faire Zweikämpfe. Hoffentlich können alle BSBler wieder gesund starten. \n\n			\n				\n			\n			\n				\n			\n			\n				\n			\n			\n				\n			\n			\n				\n			\n			\n				\n			\n			\n				\n			\n			\n				\n			\n			\n				\n			\n			\n				\n			\n			\n				\n			\n		\n\nHier findet ihr die vollständigen Ergebnisse.
URL:https://bikesportbuehne.de/event/12-cube-cup-baunach/
CATEGORIES:Renntermine
END:VEVENT
BEGIN:VEVENT
DTSTART;VALUE=DATE:20240929
DTEND;VALUE=DATE:20240930
DTSTAMP:20260421T233936
CREATED:20240303T163936Z
LAST-MODIFIED:20240929T174731Z
UID:3760-1727568000-1727654399@bikesportbuehne.de
SUMMARY:#13 CUBE-Cup Scheßlitz
DESCRIPTION:Saisonfinale in Scheßlitz \n  \nZum Ende der Saison absolvierten unsere BSB-Kids am 29.09.24 in Scheßlitz ihr 4. Rennen innerhalb von 4 Wochen. Überraschend für alle waren die Bodenverhältnisse in Scheßlitz unerwartet weich\, Hagel am Vortag hat ganze Arbeit geleistet. Nach anfangs kühlen 3 °C und Nebel kämpfte sich die Sonne durch und bescherte uns allen am Fuße der Giechburg einen wundervollen Herbsttag. \nUnsere 20 Starter fuhren wieder gute Ergebnisse ein mit insgesamt 3 Siegen und 4 weiteren Podestplätzen. \nDie Ergebnisse im Einzelnen: \nU7w: 1. Helena\, 2. Ella\, 11. Luisa\, U7m: 6. Ilmo\, 21. Theo \nU9w: 1. Nila\, U9m:  1. Jakob\, 9. Enno\, 15. Emil\, 19. Finn \nU11m: 4. Leo\, 5. Luca\, 6. Toni\, 9. Bèla\, 16. Philipp \nU13m: 2. Levi S.\, 5. Levi N.\, 24. Mika \nU15w: 3. Hannah\, U15m: 4. Lenny \nWie sich die heutigen Ergebnisse auf die CubeCup-Gesamtwertung auswirken\, werden wir in den nächsten Tagen erfahren. Es bleibt spannend … \nStaffel: 3. BSB (Hannah\, Leo\, Levi S.) \nUm auch in der kommenden Saison wieder eine oder mehrere erfolgreiche BSB-Staffeln an den Start schicken zu können\, brauchen wir Mädels – du bist zwischen 9 und 14 Jahren und fährst gern Mountainbike? Dann schreib uns eine Email an schnuppern@bikesportbuehne.de und trainiere mit uns! \nNeben den Kinderstaffeln gab es heute auch eine Trainerstaffel\, gemischt aus den CubeCup-Vereinen. Die BSB wurde dabei von Jonny vertreten\, der zusammen mit Magdalena (Wunsiedel) und Marco (Hof) den Sieg einfahren konnte.
URL:https://bikesportbuehne.de/event/13-cube-cup-schesslitz-2/
CATEGORIES:Renntermine
END:VEVENT
END:VCALENDAR