BEGIN:VCALENDAR
VERSION:2.0
PRODID:-//BikeSportBühne Bayreuth e.V. - ECPv6.15.20//NONSGML v1.0//EN
CALSCALE:GREGORIAN
METHOD:PUBLISH
X-ORIGINAL-URL:https://bikesportbuehne.de
X-WR-CALDESC:Veranstaltungen für BikeSportBühne Bayreuth e.V.
REFRESH-INTERVAL;VALUE=DURATION:PT1H
X-Robots-Tag:noindex
X-PUBLISHED-TTL:PT1H
BEGIN:VTIMEZONE
TZID:UTC
BEGIN:STANDARD
TZOFFSETFROM:+0000
TZOFFSETTO:+0000
TZNAME:UTC
DTSTART:20230101T000000
END:STANDARD
END:VTIMEZONE
BEGIN:VEVENT
DTSTART;VALUE=DATE:20240504
DTEND;VALUE=DATE:20240505
DTSTAMP:20260421T174619
CREATED:20240302T095854Z
LAST-MODIFIED:20240505T124822Z
UID:3725-1714780800-1714867199@bikesportbuehne.de
SUMMARY:Bayreuther MTB-Event 2024
DESCRIPTION:>> Bildergalerie vom Hauprennen (Florian Massen) << \n>> Hier findet ihr die Ergebnisse << \nErgebnis CUBE-Cup Kinderstaffel \nErgebnisse Technikparcours: \nU11m \nU11w \nU13m \nU13w \nU15m \nU15w \n  \nHier findet ihr die Ausschreibung (auf´s Bild klicken) und alle relevanten Informationen zur Veranstaltung … \n \nHaftungsausschluss \nZur Anmeldung \nStreckenplan U11/U13/Firmen- und Vereinsstaffel \nStreckenplan U15 \nStreckenplan U9/ Staffel (CUBE-Cup)  \nStreckenplan U7 \nStreckenplan ab U17 \n  \n \n \n \n  \n 
URL:https://bikesportbuehne.de/event/bayreuther-mtb-event-2024/
LOCATION:Festspielhügel\, An der Bürgerreuth\, Bayreuth\, Bayern\, 95445\, Deutschland
CATEGORIES:Veranstaltungen
ATTACH;FMTTYPE=image/png:https://bikesportbuehne.de/wp-content/uploads/2024/03/Plakat_BSB_2024.png
END:VEVENT
BEGIN:VEVENT
DTSTART;VALUE=DATE:20240511
DTEND;VALUE=DATE:20240512
DTSTAMP:20260421T174619
CREATED:20240303T162909Z
LAST-MODIFIED:20240825T124725Z
UID:3742-1715385600-1715471999@bikesportbuehne.de
SUMMARY:#4 CUBE-Cup Wüstenselbitz
DESCRIPTION:Bayreuther Ergebnisse: \nU7w \n2. Ella Panzer \nU7m \n10. Ilmo Barnickel \n13. Theo Bauer \n26. Theo Slawik \nU9w \n2. Nila Sabbarth \nU9m \n3. Enno Barnickel \n4. Jakob Schirner \nU11m \n1. Leo Barnickel \n3. Luca Panzer \n8. Bela Schlund \n14. Toni Eckert \nU13m \n2. Levi Sabbarth \n18. Mika Partenfelder \nU17w \n1. Laura Popp \nU17m \n1. Jakob Schönauer \n5. Linus Reimann \nDamen \n2. Hannah Riess \nHerren \n5. Max Riess \n  \n–> Alle Ergebnisse
URL:https://bikesportbuehne.de/event/4-cube-cup-wuestenselbitz/
CATEGORIES:Renntermine
END:VEVENT
END:VCALENDAR