BEGIN:VCALENDAR
VERSION:2.0
PRODID:-//BikeSportBühne Bayreuth e.V. - ECPv6.15.20//NONSGML v1.0//EN
CALSCALE:GREGORIAN
METHOD:PUBLISH
X-ORIGINAL-URL:https://bikesportbuehne.de
X-WR-CALDESC:Veranstaltungen für BikeSportBühne Bayreuth e.V.
REFRESH-INTERVAL;VALUE=DURATION:PT1H
X-Robots-Tag:noindex
X-PUBLISHED-TTL:PT1H
BEGIN:VTIMEZONE
TZID:UTC
BEGIN:STANDARD
TZOFFSETFROM:+0000
TZOFFSETTO:+0000
TZNAME:UTC
DTSTART:20230101T000000
END:STANDARD
END:VTIMEZONE
BEGIN:VEVENT
DTSTART;VALUE=DATE:20240420
DTEND;VALUE=DATE:20240421
DTSTAMP:20260421T160935
CREATED:20240303T162703Z
LAST-MODIFIED:20240303T163011Z
UID:3738-1713571200-1713657599@bikesportbuehne.de
SUMMARY:#1 CUBE-Cup As
DESCRIPTION:ab U17 \n–> Infos
URL:https://bikesportbuehne.de/event/1-cube-cup-as/
CATEGORIES:Renntermine
END:VEVENT
BEGIN:VEVENT
DTSTART;VALUE=DATE:20240428
DTEND;VALUE=DATE:20240429
DTSTAMP:20260421T160935
CREATED:20240303T162746Z
LAST-MODIFIED:20240825T121807Z
UID:3740-1714262400-1714348799@bikesportbuehne.de
SUMMARY:#2 CUBE-Cup Trieb
DESCRIPTION:Bayreuther Ergebnisse: \nU7w \n2. Ella Panzer \nU7m \n5. Ilmo Barnickel \nU9w \n2. Nila Sabbarth \nU9m \n2. Jakob Schirner \n4. Enno Barnickel \n21. Emil Rasp \nU11m \n1. Luca Panzer \n3. Leo Barnickel \n6. Toni Eckert \n13. Philipp Neumann \n17. Bela Schlund \n25. Vinzent Lengenfelder \nU13m \n4. Levi Sabbarth \n8. Levi Neumann \n24. Nils Scharl \nU17w \n2. Laura Popp \n7. Elise Lengenfelder \nU17m \n4. Jakob Schönauer \n7. Sebastian Arzberger \nMasters I \n2. Thomas Weschta \n  \n–> Alle Ergebnisse
URL:https://bikesportbuehne.de/event/2-cube-cup-trieb/
CATEGORIES:Renntermine
END:VEVENT
END:VCALENDAR