BEGIN:VCALENDAR
VERSION:2.0
PRODID:-//BikeSportBühne Bayreuth e.V. - ECPv6.15.20//NONSGML v1.0//EN
CALSCALE:GREGORIAN
METHOD:PUBLISH
X-ORIGINAL-URL:https://bikesportbuehne.de
X-WR-CALDESC:Veranstaltungen für BikeSportBühne Bayreuth e.V.
REFRESH-INTERVAL;VALUE=DURATION:PT1H
X-Robots-Tag:noindex
X-PUBLISHED-TTL:PT1H
BEGIN:VTIMEZONE
TZID:UTC
BEGIN:STANDARD
TZOFFSETFROM:+0000
TZOFFSETTO:+0000
TZNAME:UTC
DTSTART:20210101T000000
END:STANDARD
END:VTIMEZONE
BEGIN:VEVENT
DTSTART;VALUE=DATE:20221002
DTEND;VALUE=DATE:20221003
DTSTAMP:20260422T023357
CREATED:20220305T084222Z
LAST-MODIFIED:20220305T084222Z
UID:2749-1664668800-1664755199@bikesportbuehne.de
SUMMARY:#8 MTB Bayernliga 2022 - Benediktbeuern
DESCRIPTION:
URL:https://bikesportbuehne.de/event/8-mtb-bayernliga-2022-benediktbeuern/
CATEGORIES:Renntermine
END:VEVENT
BEGIN:VEVENT
DTSTART;VALUE=DATE:20221009
DTEND;VALUE=DATE:20221010
DTSTAMP:20260422T023357
CREATED:20220305T082636Z
LAST-MODIFIED:20221009T132511Z
UID:2720-1665273600-1665359999@bikesportbuehne.de
SUMMARY:#12 CUBE-Cup 2022 - Schneckenlohe
DESCRIPTION:Finale in Schneckenlohe\nHeute stand das letzte Cube Cup Rennen in Schnecko an – nach anfänglichem  Nebel konnte dann bei schönstem Sonnenschein um die begehrten Podestplätze gekämpft werden. Wie immer haben wir uns super präsentiert! \n  \nBevor aber die Ergebnisse kommen: \nVIELEN DANK an alle Trainerinnen und Trainer\, die das ganze Jahr über so intensiv mit unseren Kids traininert haben. \nVIELEN DANK an die Sponsoren\, die mit Ihrer Unterstützung dafür sorgen\, dass wir so ausgiebig trainieren können. Bitte liebe Mitglieder und Sportfreunde\, berücksicht diese bei Eurem nächsten Einkauf! \nVIELEN DANK an Euch Eltern\, dass ihr die Kids immer wieder zu den Rennen begleitet und anfeuert. \nRESPEKT und ANERKENNUNG an Euch liebe Kids. Es war eine tolle Saison! Wir danken Euch dafür! Seid stolz auf Euch! \n  \nU7w\n3. Nila Sabbarth \n  \nU7 m\n3. Enno Barnickel\n5. Jakob Pickelmann\n15. Ilmo Barnickel \n  \nU9w\n2. Luisa Kramer \n  \nU9m\n2. Béla Schlund\n5. Leo Barnickel\n9. Fredrik Schmidt\n12. Hannes Pickelmann\n14. Vincent Lengenfelder \n  \nU11w\n3. Fanni Schmidt \n  \nU11m\n5. Levi Neumann\n6. Levi Sabbarth\n7. Simon Kramer\n13. Mika Partenfelder \n  \nU13w\n4. Fritz Eismann\n6. Aaron Hückmann\n7. Lenny Schlund \n  \nU13m\n2. Hannah Neumann \n  \nStaffel\n1. BSB 1: Hannah (13)\, Aaron (13)\, Fritz (13)\n8. BSB 2: Fanni (11)\, Levi N. (11)\, Levi S. (11) \n  \n  \nDie Gesamtergebnisse stehen leider noch nicht zur Verfügung. \n 
URL:https://bikesportbuehne.de/event/12-cube-cup-2022-schneckenlohe/
CATEGORIES:Renntermine
ATTACH;FMTTYPE=image/jpeg:https://bikesportbuehne.de/wp-content/uploads/2022/10/JYSZ9110.jpg
END:VEVENT
END:VCALENDAR