BEGIN:VCALENDAR
VERSION:2.0
PRODID:-//BikeSportBühne Bayreuth e.V. - ECPv6.15.20//NONSGML v1.0//EN
CALSCALE:GREGORIAN
METHOD:PUBLISH
X-WR-CALNAME:BikeSportBühne Bayreuth e.V.
X-ORIGINAL-URL:https://bikesportbuehne.de
X-WR-CALDESC:Veranstaltungen für BikeSportBühne Bayreuth e.V.
REFRESH-INTERVAL;VALUE=DURATION:PT1H
X-Robots-Tag:noindex
X-PUBLISHED-TTL:PT1H
BEGIN:VTIMEZONE
TZID:UTC
BEGIN:STANDARD
TZOFFSETFROM:+0000
TZOFFSETTO:+0000
TZNAME:UTC
DTSTART:20210101T000000
END:STANDARD
END:VTIMEZONE
BEGIN:VEVENT
DTSTART;VALUE=DATE:20220910
DTEND;VALUE=DATE:20220912
DTSTAMP:20260422T042530
CREATED:20220305T084043Z
LAST-MODIFIED:20220305T084043Z
UID:2745-1662768000-1662940799@bikesportbuehne.de
SUMMARY:#6 MTB Bayernliga 2022 - Bad Griesbach
DESCRIPTION:
URL:https://bikesportbuehne.de/event/6-mtb-bayernliga-2022-bad-griesbach/
CATEGORIES:Renntermine
END:VEVENT
BEGIN:VEVENT
DTSTART;VALUE=DATE:20220910
DTEND;VALUE=DATE:20220912
DTSTAMP:20260422T042530
CREATED:20220305T085150Z
LAST-MODIFIED:20220305T085150Z
UID:2764-1662768000-1662940799@bikesportbuehne.de
SUMMARY:#8 Deutsche Nachwuchsmeisterschaft 2022 - Bad Tabarz
DESCRIPTION:Samstag: Slalom \nSonntag: Cross-Country
URL:https://bikesportbuehne.de/event/8-deutsche-nachwuchsmeisterschaft-2022-bad-tabarz/
CATEGORIES:Renntermine
END:VEVENT
BEGIN:VEVENT
DTSTART;VALUE=DATE:20220917
DTEND;VALUE=DATE:20220918
DTSTAMP:20260422T042530
CREATED:20220305T082535Z
LAST-MODIFIED:20220725T173719Z
UID:2714-1663372800-1663459199@bikesportbuehne.de
SUMMARY:#9 CUBE-Cup 2022 - Eger (ab U17)
DESCRIPTION:Link zur Ausschreibung
URL:https://bikesportbuehne.de/event/9-cube-cup-2022-eger-ab-u17/
CATEGORIES:Renntermine
END:VEVENT
BEGIN:VEVENT
DTSTART;VALUE=DATE:20220924
DTEND;VALUE=DATE:20220925
DTSTAMP:20260422T042530
CREATED:20220305T084138Z
LAST-MODIFIED:20220305T084138Z
UID:2747-1663977600-1664063999@bikesportbuehne.de
SUMMARY:#7 MTB Bayernliga 2022 - Sandharlanden (BM XCE)
DESCRIPTION:
URL:https://bikesportbuehne.de/event/7-mtb-bayernliga-2022-sandharlanden-bm-xce/
CATEGORIES:Renntermine
END:VEVENT
BEGIN:VEVENT
DTSTART;VALUE=DATE:20220924
DTEND;VALUE=DATE:20220926
DTSTAMP:20260422T042530
CREATED:20220305T085441Z
LAST-MODIFIED:20220305T085441Z
UID:2766-1663977600-1664150399@bikesportbuehne.de
SUMMARY:#9 Deutsche Nachwuchsmeisterschaft 2022 - Wetter/ Ruhr
DESCRIPTION:Samstag: Geschicklichkeit \nSonntag: Cross-Country
URL:https://bikesportbuehne.de/event/9-deutsche-nachwuchsmeisterschaft-2022-wetter-ruhr/
CATEGORIES:Renntermine
END:VEVENT
BEGIN:VEVENT
DTSTART;VALUE=DATE:20220925
DTEND;VALUE=DATE:20220926
DTSTAMP:20260422T042530
CREATED:20220305T082605Z
LAST-MODIFIED:20220925T153209Z
UID:2717-1664064000-1664150399@bikesportbuehne.de
SUMMARY:#10 CUBE-Cup 2022 - Scheßlitz
DESCRIPTION:Der Nachwuchs hat sich erfolgreich in Scheßlitz präsentiert. \nBeim vorletzten Rennen in Scheßlitz hat sich die BSB wieder einmal gut verkauft. Trotz teilweise starkem Regen und rutschigem Rasen – zum Glück üben wir regelmäßig auf der nassen Wiese an der Bürgerreuth – gab es viele Siege und sehr gute Platzierungen. \nGewohnt durch das ganze BSB Team begleitet\, fuhr die erst 2 jährige Ella Panzer bei ihrem dritten Cube Cup mit und kam als 7. ins Ziel. \nBei den Jungs in der U7 erkämpfte sich Jakob Schirner einen starken 2. Platz. Knapp hinter ihm\, auf den Plätzen 4 und 5\, kamen Enno Barnickel und Jakob Pickelmann ins Ziel. Platz 18 ging an Ilmo Barnickel. \nEndlich haben wir auch wieder weibliche Unterstützung in der U9. In ihrem ersten Rennen für die BSB fuhr Luisa Kramer auf Platz 3. Ein toller Einstand! \nIn der männlichen U9 lief es heute irgendwie nicht richtig rund. Zwar waren die Ergebnisse wie immer super\, aber Platz 1 und 2 gingen diesmal an andere… Dritter wurde der bereits feststehende Gesamtsieger des Cube Cups Luca Panzer\, 5. Béla Schlund\, 7. Leo Barnickel\, 8. Philipp Neumann und 14. Hannes Pickelmann. \nIn der weiblichen U11 erkämpfte sich Fanni Schmidt einen tollen 3. Platz\, knapp gefolgt von Marie Viktoria Pankse. Allerdings war der gesamte Rennverlauf wie bei fast jedem Rennen in dieser Saison sehr stark durch die Jungs beeinträchtigt. Erst hieß es Schieben in den schönen Trailpassagen\, weil sie zu schnell auf die Jungs aufgefahren sind und zu allem Überfluss wurde der Zielsprint dann noch von einem Schlangenlinien fahrenden Jungen entschieden. \nBei den Jungs erreichte Levi Neumann das Ziel als 4. Simon Kramer\, ebenfalls neu in der BSB\, fuhr bei seinem Einstand auf Platz 7\, gefolgt von Levi Sabbarth auf Platz 8. Mika Partenfelder erreichte als 13. das Ziel\, Nils Scharl als 23. und Johann Kaindl als 25. \nUnd dann kam die bärenstarke U13! Hannah Neumann gewann bei den Mädels souverän in Scheßlitz. Fritz Eismann machte es Ihr gleich. In einem bis kurz vor Schluss hart aber fair geführtem Zweikampf konnte Fritz sich in der nassen Rasen-Slalom-Passage absetzen und fuhr so als erster über die Ziellinie. Aaron Hückmann stand als 3. neben ihm auf dem Podest. Abgerundet wurden die Ergebnisse in dieser Klasse durch die tollen Plätze von Lenny Schlund (5) und Leopold Pankse (7). \nIn der weiblichen U15 fuhr Elise Lengenfelder im Dauerregen auf einen guten 9. Platz. \nAuch bei den abschließenden Staffeln mit 10 Teams haben wir einen guten Eindruck hinterlassen. Team BSB I – mit Hannah (U13) / Aaron (U13) / Fritz (U13) – gelang ein ungefährdeter Sieg. Team BSB II – mit Elise (U15) / Lenny (U13) / Levi N. (U11) – fuhr auf Platz 6. Fast die Jüngsten im Feld\, das Team BSB III – Marie (U11) / Fanni (U11) / Leopold (U13) – wurden 7. \nIm Nachmittagsrennen wurde Max Riess in der U19 1 und bei den Herren insgesamt 3! \nAlle Online Ergebnisse stehen leider nicht zur Verfügung…!
URL:https://bikesportbuehne.de/event/10-cube-cup-2022-schesslitz/
CATEGORIES:Renntermine
ATTACH;FMTTYPE=image/jpeg:https://bikesportbuehne.de/wp-content/uploads/2022/03/IMG_6827-scaled.jpg
END:VEVENT
END:VCALENDAR