BEGIN:VCALENDAR
VERSION:2.0
PRODID:-//BikeSportBühne Bayreuth e.V. - ECPv6.15.20//NONSGML v1.0//EN
CALSCALE:GREGORIAN
METHOD:PUBLISH
X-ORIGINAL-URL:https://bikesportbuehne.de
X-WR-CALDESC:Veranstaltungen für BikeSportBühne Bayreuth e.V.
REFRESH-INTERVAL;VALUE=DURATION:PT1H
X-Robots-Tag:noindex
X-PUBLISHED-TTL:PT1H
BEGIN:VTIMEZONE
TZID:UTC
BEGIN:STANDARD
TZOFFSETFROM:+0000
TZOFFSETTO:+0000
TZNAME:UTC
DTSTART:20210101T000000
END:STANDARD
END:VTIMEZONE
BEGIN:VEVENT
DTSTART;VALUE=DATE:20220702
DTEND;VALUE=DATE:20220704
DTSTAMP:20260424T120000
CREATED:20220305T085038Z
LAST-MODIFIED:20220305T085038Z
UID:2762-1656720000-1656892799@bikesportbuehne.de
SUMMARY:#6 Deutsche Nachwuchsmeisterschaft 2022 - Weißenfels
DESCRIPTION:Samstag: Geschicklichkeit \nSonntag: Cross-Country
URL:https://bikesportbuehne.de/event/6-deutsche-nachwuchsmeisterschaft-2022-weissenfels/
CATEGORIES:Renntermine
END:VEVENT
BEGIN:VEVENT
DTSTART;VALUE=DATE:20220709
DTEND;VALUE=DATE:20220710
DTSTAMP:20260424T120000
CREATED:20220305T082314Z
LAST-MODIFIED:20220711T161324Z
UID:2705-1657324800-1657411199@bikesportbuehne.de
SUMMARY:#7 CUBE-Cup 2022 - Bayreuth
DESCRIPTION:1. Bayreuther Cube Cup auf der Landesgartenschau \nDie Premiere ist vorbei. Und als aller erstes heißt es DANKE zu sagen. \nDanke an alle Helferinnen und Helfer\, die so fleißig bei der Organisation\, Aufbau\, Abbau\, als Streckenposten\, beim Kuchenverkauf\, der Startnummernausgabe usw. geholfen haben… Ohne EUCH ist so eine Veranstaltung einfach nicht zu stemmen! Ihr seid großartig! \nDanke auch an die Sponsoren\, die uns finanziell und mit vielen tollen Sachpreisen für die Tombola unterstützt haben. \nSicherlich sind wir auch selbstkritisch genug und wissen\, dass nicht alles rund gelaufen ist. Und somit danken wir auch denen\, die mit konstruktiver Kritik und mit schnellen\, helfenden Händen dafür gesorgt haben\, die Kuh kurzfristig vom Eis zu bekommen und dass es das nächste Mal besser wird. \nEs war das erste Mal\, dass wir in der Landesgartenschau starten mussten. Die Strecken waren diesmal ganz andere\, als alle bislang gewohnt waren… doch trotzdem herausfordernd und anspruchsvoll für alle Klassen. \nJetzt aber zu den Ergebnissen. Gewohnt erfolgreich hat sich die BSB beim Heimrennen gezeigt. \nU7w\n2. Nila Sabbarth (1. Stadtmeisterin von Bayreuth = 1. SMvB)\n9. Ella Panzer (3. SMvB) \nU7m\n3. Jakob Schirner (1. SMvB)\n5. Jakob Pickelmann (2. SMvB)\n7. Enno Barnickel (3. SMvB)\n10. Mats Scharl\n12. Ilmo Barnickel \nU9m\n1. Luca Panzer (1. SMvB)\n3. Fredrik Schmidt (2. SMvB)\n4. Leo Barnickel (3. SMvB)\n8. Béla Schlund\n12. Philipp Neumann\n20. Vinzent Lengenfelder\n23. Hannes Pickelmann \nU11w\n3. Fanni Schmidt (1. SMvB) \nU11m\n2. Levi Neumann (1. SMvB)\n8. Mika Partenfelder (3. SMvB)\n24. Nils Scharl \nU13w\n2. Hannah Neumann (1. SMvB) \nU13m\n4. Fritz Eismann (1. SMvB)\n6. Aaron Hückmann (2. SMvB)\n8. Lenny Schlund (3. SMvB)\n11. Lucas Hofmann \nU15w\n3. Emma Heinrich (1. SMvB)\n4. Laura Popp (2. SMvB)\n8. Elise Lengenfelder (3. SMvB) \nU15m\n1. Elias Hückmann (1. SMvB)\n5. Louis Wintzer (3. SMvB)\n13. Sebastian Arzberger\n14. Jakob Schönauer\n15. Leopold Brandt\n18. Linus Reimann \nU17w\n1. Lucie Hückmann (1. SMvB)\n2. Mia Kastl (3. SMvB)\n3. Amelie Kauer \nU19m\n1. Niklas Popp (1. SMvB) \nW20\n1. Karoline Donnerstag (2. SMvB) \nM20\n2. Jaro Bräunig (1. SMvB)\n5. Julian Biedermann \nHerren III\n5. Stefan Pöhlmann \nGeschicklichkeitsparcours\nU11w\n1. Marie Viktoria Pankse\n3. Fanni Schmidt \nU11m\n4. Mika Partenfelder\n5. Levi Sabbarth\n8. Levi Neumann \nU13w\n2. Hannah Neumann \nU13m\n1. Fritz Eismann\n2. Aaron Hückmann\n5. Lenny Schlund\n9. Leopold Pankse \nU15m\n1. Elias Hückmann\n5. Louis Wintzer\n10. Leopold Brandt \nU15w\n2. Emma Heinrich\n5. Laura Popp \nStaffel\n1. BSB 1 (Hannah\, Elias\, Aaron)\n3. BSB 2 (Emma\, Fritz\, Lenny)\n8. BSB 3 (Laura\, Fanni\, Levi) \n  \nAlle Ergebnisse: \nU7w \nU7m \nU9w \nU9m \nU11w \nU11m \nU13w \nU13m \nU15w \nU15m \nU17w \nU17m \nU19m \nW20 \nW30 \nM20 \nHerren I \nHerren II \nHerren III \nStaffelrennen \nHier die Ergebnislisten der Technikparcours: \nU11w \nU11m \nU13w \nU13m \nU15w \nU15m
URL:https://bikesportbuehne.de/event/7-cube-cup-2022-bayreuth/
CATEGORIES:Renntermine,Veranstaltungen
ATTACH;FMTTYPE=image/jpeg:https://bikesportbuehne.de/wp-content/uploads/2022/07/SKDC4240.jpg
END:VEVENT
BEGIN:VEVENT
DTSTART;VALUE=DATE:20220716
DTEND;VALUE=DATE:20220718
DTSTAMP:20260424T120000
CREATED:20220305T083911Z
LAST-MODIFIED:20220719T181551Z
UID:2741-1657929600-1658102399@bikesportbuehne.de
SUMMARY:#7 Deutsche Nachwuchsmeisterschaft/ #4 MTB Bayernliga 2022 - Wombach
DESCRIPTION:Starke Auftritte zeigten unsere Sportler auch in Wombach wieder. \nIn der U15 hatte Elias Hückmann nach zwei Slalomdurchgängen nur 0\,78 Sekunden Rückstand zum Sieger und wurde damit dritter. Im Cross-Country Wettbewerb am Sonntag lies er der Konkurrenz einmal mehr keine Chance\, setzte sich bereits in der ersten von drei Runden ab und feierte so einen klaren Start-Ziel-Sieg. \nÄhnlich eng ging es auch bei den Mädchen im Slalom zu. Im ersten Lauf noch etwas verhalten fahrend musste sich Emma Heinrich noch mit Platz sieben im Zwischenklassement zufrieden geben. Im zweiten Durchgang legte sie dann jedoch noch eine Schippe drauf und schob sich mit der viertschnellsten Laufzeit noch auf Position fünf nach vorne. Dabei trennten Platz vier\, fünf und sechs am Ende weniger als 0\,3 Sekunden! \nIm Cross-Country Rennen durfte somit auch Emma aus der ersten Reihe starten. Gewohnt stark auf den ersten Metern ging sie dann als Führende auf die Strecke\, musste zwischenzeitlich dem hohen Anfangstempo etwas Tribut zollen\, konnte jedoch in der zweiten Rennhälfte wieder zulegen und machte so ordentlich Zeit auf die direkte Konkurrenz gut. Am Ende ein zufriedenstellender 13. Platz. \nFoto: Marco Haas\nBei den U17-Mädchen konnte sich Amelie Knauer ebenfalls im zweiten Lauf nochmal deutlich steigern und schob sich so noch auf den elften Platz im Slalomwettbewerb nach vorne. \nAuch das Cross-Country Rennen konnte Amelie mit einem positiven Ergebnis beenden. Mit einer starken Schlussrunde machte sie nochmal 3 Plätze gut und sicherte sich somit Rang 17. \nFoto: Marco Haas\nIm Bayernligarennen der U13  kämpfte sich Fritz Eismann auf den achten Platz. Aaron Hückmann folgte nicht weit dahinter auf Rang elf. \nMia Kastl stürzte leider bereits beim Slalom-Training und konnte dann an den Rennläufen nicht teilnehmen. \nLucie Hückmann und Philipp Pleschko mussten dieses Wochenende krankheitsbedingt aussetzen.
URL:https://bikesportbuehne.de/event/7-deutsche-nachwuchsmeisterschaft-4-mtb-bayernliga-2022-wombach/
CATEGORIES:Renntermine
END:VEVENT
BEGIN:VEVENT
DTSTART;VALUE=DATE:20220724
DTEND;VALUE=DATE:20220725
DTSTAMP:20260424T120000
CREATED:20220305T082347Z
LAST-MODIFIED:20220724T150417Z
UID:2707-1658620800-1658707199@bikesportbuehne.de
SUMMARY:#8 CUBE-Cup 2022 - Baunach
DESCRIPTION:Hitzeschlacht in Baunach – mit guten ErgebnissenDie Gesichter der Kids auf den Bildern lassen es nur erahnen\, welch harter Fight heute auf dem Programm stand. Denn die Hitze und der Staub haben die durchaus tolle Strecke zu einer echten Herausforderung gemacht. Und trotzdem hat keiner aufgegeben und bis zum Ende um jeden Platz gekämpft. Selbst zwei Stürze konnten uns nicht aufhalten. U7m4. Enno Barnickel5. Jakob Schirner10. Jakob Pickelmann14. Ilmo BarnickelU9m 2. Béla Schlund3. Fredrik Schmidt4. Leo Barnickel10. Hannes Pickelmann13. Philipp Neumann14. Vinzent LengenfelderU11w3. Marie Viktoria Pankse4. Fanni SchmidtU11m9. Levi Neumann16. Mika PartenfelderU13w1. Hannah NeumannU13m4. Fritz Eismann6. Aaron Hückmann7. Lenny SchlundU15w8. Elise LengenfelderSTAFFEL (von 12)2. BSB I (Hannah 13 / Aaron 13 / Fritz 13)6. BSB II (Marie V. 11 / Lenny 13 / Levi 11)10. BSB III (Fanni 11 / Elise 15/ Mika 11) \n  \nAlle Ergebnisse gibt es HIER \n 
URL:https://bikesportbuehne.de/event/8-cube-cup-2022-baunach/
CATEGORIES:Renntermine
ATTACH;FMTTYPE=image/png:https://bikesportbuehne.de/wp-content/uploads/2022/03/IMG_6322.png
END:VEVENT
BEGIN:VEVENT
DTSTART;VALUE=DATE:20220730
DTEND;VALUE=DATE:20220731
DTSTAMP:20260424T120000
CREATED:20220305T083958Z
LAST-MODIFIED:20220722T174413Z
UID:2743-1659139200-1659225599@bikesportbuehne.de
SUMMARY:#5 MTB Bayernliga 2022 - Altenstadt (BM XCO)
DESCRIPTION:
URL:https://bikesportbuehne.de/event/5-mtb-bayernliga-2022-altenstadt/
CATEGORIES:Renntermine
END:VEVENT
END:VCALENDAR