BEGIN:VCALENDAR
VERSION:2.0
PRODID:-//BikeSportBühne Bayreuth e.V. - ECPv6.15.20//NONSGML v1.0//EN
CALSCALE:GREGORIAN
METHOD:PUBLISH
X-WR-CALNAME:BikeSportBühne Bayreuth e.V.
X-ORIGINAL-URL:https://bikesportbuehne.de
X-WR-CALDESC:Veranstaltungen für BikeSportBühne Bayreuth e.V.
REFRESH-INTERVAL;VALUE=DURATION:PT1H
X-Robots-Tag:noindex
X-PUBLISHED-TTL:PT1H
BEGIN:VTIMEZONE
TZID:UTC
BEGIN:STANDARD
TZOFFSETFROM:+0000
TZOFFSETTO:+0000
TZNAME:UTC
DTSTART:20210101T000000
END:STANDARD
END:VTIMEZONE
BEGIN:VEVENT
DTSTART;VALUE=DATE:20220604
DTEND;VALUE=DATE:20220606
DTSTAMP:20260424T134527
CREATED:20220305T084746Z
LAST-MODIFIED:20220606T175350Z
UID:2758-1654300800-1654473599@bikesportbuehne.de
SUMMARY:#4 Deutsche Nachwuchsmeisterschaft 2022 - Gedern
DESCRIPTION:Mit gemischten Gefühlen kehrten die Nachwuchssportler der BikeSportBühne Bayreuth von der dritten Veranstaltung zur diesjährigen Bundesnachwuchssichtung im Mountainbike Cross-Country aus dem hessischen Gedern zurück. \nEin heftiger Gewitterschauer am Freitagnachmittag veränderte die Bedingungen auf der bis dahin staubtrockenen Strecke innerhalb kurzer Zeit komplett. So galt es sich am Samstagmorgen schnell auf die veränderten Streckenverhältnisse auf dem teils noch sehr schmierigen Vulkangestein einzustellen\, war doch bereits ab 10 Uhr das Einzelzeitfahren auf verkürzter Strecke zu bewältigen. Auch als am Sonntag dann die Cross-Country Rennen anstanden hielt leichter Nieselregen die Strecke stets feucht\, sorgte aber auch für angenehm kühle Temperaturen. \nIn der weiblichen U17-Klasse hielt sich Lucie Hückmann im Zeitfahren schadlos und sicherte sich mit Platz fünf eine Startposition aus der ersten Reihe. Am Sonntag kontrollierte die Melkendorferin über weite Strecken das Renngeschehen an der Spitze des Feldes nachdem die amtierende Deutsche Schülermeisterin Paulina Weigelt (TSV Oberammergau) durch einen Defekt zurückgefallen war. Nach drei Runden entschied Hückmann in einem spannenden Finale das Rennen für sich und feierte damit ihren ersten Sieg in der Bundesnachwuchssichtung. Mia Kastl und Amelie Knauer taten sich an diesem Wochenende schwer. Mit den Plätzen 20/21 (EZF/ CC) bzw. 30 nach Sturz und 26 nach technischem Defekt konnten sich die beiden nicht zufrieden zeigen. \nLucie Hückmann auf dem Weg zu ihrem ersten Sieg in der Bundesnachwuchssichtung Foto: Marco Haas\nBei den Jungs dieser Altersklasse hingegen freute sich Philipp Pleschko mit Platz 16 im EZF über sein bisher bestes Ergebnis in der Nachwuchssichtung. Tags darauf konnte er auch im Cross-Country Rennen einen zufriedenstellenden 25 Platz einfahren. \nIn der U15-Kategorie konnte Elias Hückmann seinen Doppelsieg aus der Vorwoche leider nicht wiederholen\, konnte mit Platz drei im Zeitfahren jedoch gut leben. Im Cross-Country Wettbewerb am Sonntag diktierte er zunächst das Tempo in gewohnter Weise von vorne\, musste dann jedoch aufgrund eines Platten in der Tech-Zone das Laufrad wechseln und von Platz sechs aus eine Aufholjagd starten. Bis zur Zieleinfahrt war er bereits wieder in Sichtweite des Führungsduos. Am Ende fehlten ihm als Drittplatziertem nur sieben Sekunden zum Sieger Jonas Schweizer (RMSV Ehrenkirchen). \nEmma Heinrich konnte nach einem Sturz im Zeitfahren nicht an ihren dritten Platz vom vergangenen Wochenende anknüpfen. So reichte es nur zum unglücklichen 19. Platz. Im Cross-Country Rennen konnte sie sich schließlich auf Position 15 halten. \nIm Bundesligarennen der U19 zeigte Niklas Popp erneut eine überzeugende Leistung. Nach 1:03 Stunden durfte er sich über Platz 13 freuen. \nIm Rennen der Männer Elite/U23 finishte Jaro Bräunig als guter 31.
URL:https://bikesportbuehne.de/event/4-deutsche-nachwuchsmeisterschaft-2022-gedern/
CATEGORIES:Renntermine
END:VEVENT
BEGIN:VEVENT
DTSTART;VALUE=DATE:20220619
DTEND;VALUE=DATE:20220620
DTSTAMP:20260424T134527
CREATED:20220305T084923Z
LAST-MODIFIED:20220305T084923Z
UID:2760-1655596800-1655683199@bikesportbuehne.de
SUMMARY:#5 Deutsche Nachwuchsmeisterschaft 2022 - Bad Salzdetfurth
DESCRIPTION:nur Cross-Country
URL:https://bikesportbuehne.de/event/5-deutsche-nachwuchsmeisterschaft-2022-bad-salzdetfurth/
CATEGORIES:Renntermine
END:VEVENT
BEGIN:VEVENT
DTSTART;VALUE=DATE:20220625
DTEND;VALUE=DATE:20220626
DTSTAMP:20260424T134527
CREATED:20220305T082153Z
LAST-MODIFIED:20220625T145054Z
UID:2700-1656115200-1656201599@bikesportbuehne.de
SUMMARY:#5 CUBE-Cup 2022 - Stammbach
DESCRIPTION:In Stammbach steht die BSB 19x auf dem Podest und zeigt sich als EIN Team! \nDiesen Samstag zeigte sich die BSB von einer ganz besonderen Seite\, dass sogar der Stammbacher Moderator ins Schwärmen geriet: „das\, was die Bayreuther hier abziehen\, habe ich noch nicht gesehen – der Wahnsinn\, super…“!\nElla Panzer (2 Jahre!) fuhr ihr erstes Rennen und wurde von dem Bayreuther Nachwuchs die komplette Runde über begleitet. Zeitweise waren über 15 BSB´ler neben ihr und haben sie ins Ziel „getragen“. Ein tolles Beispiel für eine super Teamleistung – großen Respekt lieber Nachwuchs! \n… und überaus erfolgreich waren wir auch noch. Insgesamt standen wir 19x auf dem Podest. Ein toller Tag in Stammbach! Hier die Ergebnisse: \nU7w\n3. Nila Sabbarth\n7. Ella Panzer \n  \nU7m\n1. Enno Barnickel\n4. Jakob Schirner \n  \nU9m\n1. Luca Panzer\n2. Béla Schlund\n4. Philipp Neumann\n5. Leo Barnickel\n6. Fredrik Schmidt\n11. Vinzent Lengenfelder \n  \nU11w\n2. Marie Viktoria Pankse\n3. Fanni Schmidt \n  \nU11m\n5. Levi Sabbarth\n6. Levi Neumann\n18. Mika Partenfelder\n19. Nils Scharl \n  \nU13w\n2. Hannah Neumann \n  \nU13m\n2. Fritz Eismann\n3. Aaron Hückmann\n4. Lenny Schlund\n5. Leopold Pankse \n  \nU15w\n4. Laura Popp\n9. Elise Lengenfelder \n  \nU17w\n2. Mia Kastl \n  \nU19m\n2. Robin Bauer \n  \nHerren 1\n6. Matze Piela \n  \nHerren 2\n3. Matthias Bauer \n  \nGeschicklichkeit\nU11w\n1. Marie\n3. Fanni \n  \nU11m\n2. Levi S.\n7. Levi N.\n10. Mika \n  \nU13w\n3. Hannah \n  \nU13m\n2. Leopold\n3. Lenny\n7. Aaron\n8. Fritz \n  \nStaffel (von 10)\n2. BSB I (Hannah/Aaron/Fritz – U 13/13/13)\n4. BSB II (Laura/Leopold/Lenny – U15/13/13)\n7. BSB III (Marie/Levi/Levi – U11/11/11) \nWir sehen uns am 09.07. in Bayreuth! \n 
URL:https://bikesportbuehne.de/event/5-cube-cup-2022-stammbach/
CATEGORIES:Renntermine
ATTACH;FMTTYPE=image/jpeg:https://bikesportbuehne.de/wp-content/uploads/2022/06/HLQL9708.jpg
END:VEVENT
BEGIN:VEVENT
DTSTART;VALUE=DATE:20220626
DTEND;VALUE=DATE:20220627
DTSTAMP:20260424T134528
CREATED:20220305T082242Z
LAST-MODIFIED:20220305T083212Z
UID:2702-1656201600-1656287999@bikesportbuehne.de
SUMMARY:#6 CUBE-Cup 2022 - Marathon Trieb (ab U17)
DESCRIPTION:Link zur Ausschreibung
URL:https://bikesportbuehne.de/event/6-cube-cup-2022-marathon-trieb-ab-u17/
CATEGORIES:Renntermine
END:VEVENT
END:VCALENDAR