BEGIN:VCALENDAR
VERSION:2.0
PRODID:-//BikeSportBühne Bayreuth e.V. - ECPv6.15.20//NONSGML v1.0//EN
CALSCALE:GREGORIAN
METHOD:PUBLISH
X-ORIGINAL-URL:https://bikesportbuehne.de
X-WR-CALDESC:Veranstaltungen für BikeSportBühne Bayreuth e.V.
REFRESH-INTERVAL;VALUE=DURATION:PT1H
X-Robots-Tag:noindex
X-PUBLISHED-TTL:PT1H
BEGIN:VTIMEZONE
TZID:UTC
BEGIN:STANDARD
TZOFFSETFROM:+0000
TZOFFSETTO:+0000
TZNAME:UTC
DTSTART:20210101T000000
END:STANDARD
END:VTIMEZONE
BEGIN:VEVENT
DTSTART;VALUE=DATE:20220501
DTEND;VALUE=DATE:20220502
DTSTAMP:20260424T152727
CREATED:20220305T081953Z
LAST-MODIFIED:20220501T191328Z
UID:2691-1651363200-1651449599@bikesportbuehne.de
SUMMARY:#2 CUBE-Cup 2022 - Trieb
DESCRIPTION:Überzeugender Saisonauftakt vom Nachwuchs der BikeSportBühne Bayreuth \nEndlich hat auch die Rennsaison für den Bayreuther Nachwuchs begonnen. Und wie fleißig alle über den Winter trainiert haben\, zeigen die sehr guten Ergebnisse aus Trieb. In jedem Rennen\, wo ein Bayreuther teilnahm\, gab es auch einen Podestplatz. Das Rennen in Trieb war mit insgesamt über 200 Teilnehmern sehr gut besucht. Mit 20 Startern stellte die BSB die meisten Fahrer. \nDen Anfang machte Nila Sabbarth in der U7. Sie fuhr gleich auf Platz eins. Bei den Jungs konnte sich Jakob Schirner Platz 1 sichern\, knapp dahinter auf Platz 3 folgte Enno Barnickel. \nIn der U9m gab es einen souveränen Vierfacherfolg der BSB. Luca Panzer kam vor Fredrik Schmidt\, Béla Schlund und Leo Barnickel ins Ziel. Vinzent Lengenfelder komplettierte das starke Ergebnis mit Platz 8. \nIn der weiblichen U11 trat Marie Viktoria Pankse für die BSB an und wurde 2. Im größten Feld des Tages\, der U11m\, mit über 30 Teilnehmern\, fuhr Levi Sabbarth als dritter über die Ziellinie. Mika Partenfelder wurde 12\, Nils Scharl 20 und Johann Kaindl 26. \nBei der U13m stellte sich Fritz Eismann als dritter aufs Podest. Lenny Schlund überquerte die Ziellinie als 6 und Leopold Pankse als 8. \nBei den Nachmittagsrennen in der U17w wurde Amelie Knauer 2. Philipp Pleschko fuhr bei den Jungs einen Start-Ziel-Sieg ein. \nIn der U19 konnte Niklas Popp sich den Sieg holen. Max Riess folgte auf Platz 4.
URL:https://bikesportbuehne.de/event/2-cube-cup-2022-trieb/
CATEGORIES:Renntermine
END:VEVENT
BEGIN:VEVENT
DTSTART;VALUE=DATE:20220515
DTEND;VALUE=DATE:20220516
DTSTAMP:20260424T152727
CREATED:20220305T082052Z
LAST-MODIFIED:20220516T160228Z
UID:2694-1652572800-1652659199@bikesportbuehne.de
SUMMARY:#3 CUBE-Cup 2022 - Bad Alexandersbad
DESCRIPTION:Die Bayreuther MTB-Erfolgsgeschichte in Nordbayern hält an \nBeim Cube Cup in Bad Alexandersbad konnten die Bayreuther Ihre Ergebnisse aus Trieb bestätigen. Mit fast 30 Starterinnen und Startern ging es auf die Jagd nach den begehrten Podestplätzen. \nKnapp verpasst mit Platz 4 hat Nila Sabbarth das Podest in der U7W. Dagegen konnte sich Jakob Schirner bei den Jungs über Platz 3 freuen. Knapp dahinter als 4. kam Enno Barnickel ins Ziel. Mats Scharl wurde 10. \nIn der U9 standen gleich wieder 2 Bayreuther auf dem Podest. Luca Panzer wiederholte seinen Erfolg aus Trieb und Fredrik Schmidt wurde 3. Als 4. kam Philipp Neumann ins Ziel und Vinzent Lengenfelder wurde 10. \nLevi Sabbarth verpasste um 2 Sekunden das Podest in der U11. Knapp hinter ihm folgte Levi Neumann – der als letzter starten musste – als 5.\, Mika Partenfelder wurde 9. und Nils Scharl 25. \nEinen klasse Auftritt hatte Hannah Neumann in der U13w und belohnte sich mit Platz 2. Bei den Jungs erkämpfte sich Fritz Eismann ebenfalls einen Podestplatz und wurde 3. Leopold Pankse hatte am Start technische Probleme\, kämpfte sich aber von Platz 12 noch vor auf Platz 6. \nBei den Mädels der U15 kam Emma Heinrich auf Platz 4 ins Ziel\, Elise Lengenfelder als 9. \nBei den Staffeln mit 11 Teams stand die BSB wieder ganz oben. Das Team Hanna Neumann\, Louis Wintzer und Fritz Eismann wurde 1. Das Team mit Emma Heinrich\, Leopold Pankse und Levi Sabbarth wurde 4. \nDie Nachmittagsrennen begannen aus Bayreuther Sicht ebenfalls gut. In der U17 w wurde Amelie Knauer 2.\, Mia Kastl 3. Bei den Jungs fuhr Philipp Pleschko auf Platz 2. \nBei den U19m gab es einen 4-fach Erfolg! \nAls 1. überquerte Niklas Popp die Ziellinie\, dahinter folgten Vinzent Schwinger\, Max Rieß und Robin Bauer auf den Plätzen 2 bis 4. \nIm letzten Rennen des Tages\, bei den Herren 2\, wurde Holger Wintzer 4. und Matthias Bauer 5.
URL:https://bikesportbuehne.de/event/3-cube-cup-2022-bad-alexandersbad/
CATEGORIES:Renntermine
END:VEVENT
BEGIN:VEVENT
DTSTART;VALUE=DATE:20220522
DTEND;VALUE=DATE:20220523
DTSTAMP:20260424T152727
CREATED:20220305T083736Z
LAST-MODIFIED:20220305T083736Z
UID:2739-1653177600-1653263999@bikesportbuehne.de
SUMMARY:#3 MTB Bayernliga 2022 - Waldaschaff
DESCRIPTION:
URL:https://bikesportbuehne.de/event/3-mtb-bayernliga-2022-waldaschaff/
CATEGORIES:Renntermine
END:VEVENT
BEGIN:VEVENT
DTSTART;VALUE=DATE:20220528
DTEND;VALUE=DATE:20220529
DTSTAMP:20260424T152727
CREATED:20220305T082122Z
LAST-MODIFIED:20220528T155339Z
UID:2697-1653696000-1653782399@bikesportbuehne.de
SUMMARY:#4 CUBE-Cup 2022 - Wüstenselbitz
DESCRIPTION:Auch in Wüstenselbitz vorne mit dabei! \n  \nDie nächste Station im Cube Cup war Wüstenselbitz. Wir immer stark vertreten: die BikeSportBühne Bayreuth mit tollen Ergebnissen – in den Rennen\, in der Staffel und im Geschicklichkeitsparcours! \nEine Entschuldigung vorab: ich habe leider keine Ergebnisse vom Nachmittag von Jaro und Niklas ☹ \n  \nRennergebnisse \nNila Sabbarth gewann souverän bei der U7w. Bei den Jungs verpasste Enno Barnickel um 2 Sek Platz 3 und wurde 4. \nIn der U9 gab es 4 Top 10 Platzierungen. Luca Panzer raste auf Platz 2. Phillip Neumann wurde 4.\, Fredrik Schmidt 6. und Béla Schlund 7. \nEndlich konnten auch wieder Fanni Schmidt und Marie Viktoria Pankse nach Ihrer Verletzungspause starten. Mit Erfolg. Marie wurde 3. und Fanni 4. \nBei den U11 Jungs legte Mika Partenfelder einen fulminanten Start hin und kam als 7. ins Ziel. Etwas schneller war Levi Sabbarth\, der mit Platz 4 das Treppchen knapp verfehlte. \nAuch in der U13 gab es zwei Podeste. Hannah Neumann fuhr einen bärenstarken Start-Ziel-Sieg heim. Bei den Jungs musste sich Fritz Eismann nur dem Sieger geschlagen geben und wurde 2. Auch hier gab es 3 weitere TOP 10 Plätze. Aaron Hückmann wurde 5.\, Lenny Schlund 8. und Leopold Pankse 9. \n  \nStaffel (U11 bis U15) \nOhne U15 Fahrer haben beide Bayreuther Staffeln – bei 15 Staffeln insgesamt – großes geleistet. Und es hätte noch besser ausgehen können… \nDie BSB lag bis zur letzten Runde an Platz eins. Hannah Neumann (U13) konnte in beiden Runden an ihrer Mitstreiterin dranbleiben. Aaron Hückmann (U13) übernahm jeweils mit einem Husarenritt in beiden Runden die Führung. In seinem ersten Run konnte Leopold Pankse (U13) die Führung halten\, in der zweiten Runde stürzte er und musste 2 Staffeln vorbeiziehen lassen: Platz 3 am Ende – aber trotzdem super! \nDie zweite Bayreuther Staffel fuhr mit Fanni Schmidt\, Levi Sabbarth und Lenny Schlund. Die drei sind von 15 Staffeln 7. geworden. Bedenkt man\, dass sie mit 2x U11 und 1x U13 einer der Jüngsten waren\, haben sie eine bärenstarke Teamleistung gezeigt. TEAM BSB auf ganzer Linie! \n  \nEndlich gab es auch wieder einen Geschicklichkeitsparcours \nIn der U11 wurde über Wippen\, Palletten und Bretter gefahren\, in der U13 ging es auf dem Pumptrack zwei Runden. Einmal vorwärts und einmal rückwärts herum. \n  \nU11w \n\nMarie Viktoria Pankse\nFanni Schmidt\n\n  \nU11m \n\nMika Partenfelder\nLevi Sabbarth\n\n  \nU13w \n\nHannah Neumann\n\n  \nU13m \n\nAaron Hückmann\nLeopold Pankse\nFritz Eismann\nLenny Schlund
URL:https://bikesportbuehne.de/event/4-cube-cup-2022-wuestenselbitz/
CATEGORIES:Renntermine
END:VEVENT
BEGIN:VEVENT
DTSTART;VALUE=DATE:20220528
DTEND;VALUE=DATE:20220530
DTSTAMP:20260424T152727
CREATED:20220305T084651Z
LAST-MODIFIED:20220529T195540Z
UID:2756-1653696000-1653868799@bikesportbuehne.de
SUMMARY:#3 Deutsche Nachwuchsmeisterschaft 2022 - Böhringen
DESCRIPTION:Spitzenplatzierungen in der Bundesnachwuchssichtung\nFünf Resultate unter den besten fünf – besser hätte für die BikeSportBühne Bayreuth die zweite Veranstaltung zu Bundesnachwuchssichtung\, aus deren Gesamtwertung am Ende des Jahres die Deutschen Schüler- und Jugendmeister der Disziplin Mountainbike Cross-Country ermittelt werden\, wohl kaum laufen können. \nIn Böhringen auf der Schwäbischen Alb mussten die Nachwuchssportler zunächst am Samstag im Einzelzeitfahren ihre Schnelligkeit auf einem gut zweiminütigen sowohl technisch als auch konditionell anspruchsvollen Streckenabschnitt unter Beweis stellen\, um einerseits Punkte für die Gesamtwertung zu sammeln und sich andererseits auch eine bestmögliche Startposition für das längere Cross-Country Rennen am Sonntag zu sichern.\nIn der U15-Kategorie holte sich Elias Hückmann die Maximalpunktzahl bei den Jungs\, Emma Heinrich bewies mit der drittschnellsten Zeit unter 29 Mädchen dieser Altersklasse ihre Qualitäten. In der weiblichen U17-Klasse fuhr Lucie Hückmann auf Rang fünf\, doch fehlten zur Drittplatzierten gar nur 0\,42 Sekunden. Mia Kastl als 15. und Amelie Knauer als 21. rundeten das Bayreuther Ergebnis in dieser mit ebenfalls 30 Starterinnen besetzten Klasse ab. Bei den U17-Jungs haderte Philipp Pleschko nach mehreren kleinen Fehlern\, konnte sich aber dennoch mit Platz 26 im Mittelfeld der 51 Starter halten.\nAm Sonntag knüpfte Elias Hückmann direkt da an\, wo er am Vortag aufgehört hatte. Mit einem unangefochtenen Start-Ziel-Sieg dominierte er dieses Rennwochenende einmal mehr. Seine Schwester Lucie fuhr ebenfalls ein souveränes Rennen\, führte das Rennen zu Beginn sogar an. Nachdem sich eine Konkurrentin in der zweiten von vier Runden abgesetzt hatte\, distanzierte auch sie in der zweiten Rennhälfte ihre Gegnerinnen und überquerte die Ziellinie als hervorragende Zweite. Amelie Knauer konnte das Rennen auf Platz 18 mit einem deutlich besseren Gefühl beenden als in der Vorwoche. Mia Kastl musste das Rennen von vorletzter Positon aufnehmen\, da es vor ihr eine Startkollision gab. Ihre Aufholjagd führte sie schließlich noch auf Position 22.\nBei den Mädchen der U15 bewies Emma Heinrich einmal mehr schnelle Beine und gute Reaktion\, entschied den Start aus der ersten Reihe für sich\, führte das Feld zunächst auf die Strecke und fand dann einen guten Rhythmus zwischen Platz 6 – 10. Erst in der letzten der drei Runden machte sich der Trainingsrückstand noch bemerkbar\, wodurch sie noch aus den besten zehn rutschte und schließlich als 13. ins Ziel kam.\nPünktlich zum Start der männlichen Jugendklasse U17 setzte Regen ein\, der die Strecke stellenweise sehr rutschig machte. Nach vier Stürzen musste Philipp Pleschko mit Rang 27 zufrieden sein.
URL:https://bikesportbuehne.de/event/3-deutsche-nachwuchsmeisterschaft-2022-boehringen/
CATEGORIES:Renntermine
END:VEVENT
END:VCALENDAR