BEGIN:VCALENDAR
VERSION:2.0
PRODID:-//BikeSportBühne Bayreuth e.V. - ECPv6.15.20//NONSGML v1.0//EN
CALSCALE:GREGORIAN
METHOD:PUBLISH
X-WR-CALNAME:BikeSportBühne Bayreuth e.V.
X-ORIGINAL-URL:https://bikesportbuehne.de
X-WR-CALDESC:Veranstaltungen für BikeSportBühne Bayreuth e.V.
REFRESH-INTERVAL;VALUE=DURATION:PT1H
X-Robots-Tag:noindex
X-PUBLISHED-TTL:PT1H
BEGIN:VTIMEZONE
TZID:UTC
BEGIN:STANDARD
TZOFFSETFROM:+0000
TZOFFSETTO:+0000
TZNAME:UTC
DTSTART:20210101T000000
END:STANDARD
END:VTIMEZONE
BEGIN:VEVENT
DTSTART;VALUE=DATE:20220409
DTEND;VALUE=DATE:20220411
DTSTAMP:20260424T165929
CREATED:20220305T084542Z
LAST-MODIFIED:20220305T084552Z
UID:2754-1649462400-1649635199@bikesportbuehne.de
SUMMARY:#2 Deutsche Nachwuchsmeisterschaft 2022 - Hausach
DESCRIPTION:Samstag: Slalom \nSonntag: Cross-Country
URL:https://bikesportbuehne.de/event/2-deutsche-nachwuchsmeisterschaft-2022-hausach/
CATEGORIES:Renntermine
END:VEVENT
BEGIN:VEVENT
DTSTART;VALUE=DATE:20220416
DTEND;VALUE=DATE:20220417
DTSTAMP:20260424T165929
CREATED:20220305T081826Z
LAST-MODIFIED:20220305T082725Z
UID:2689-1650067200-1650153599@bikesportbuehne.de
SUMMARY:#1 CUBE-Cup 2022 - Asch (ab U17)
DESCRIPTION:Ab U17 \nLink zur Ausschreibung
URL:https://bikesportbuehne.de/event/1-cube-cup-2022-asch/
CATEGORIES:Renntermine
END:VEVENT
BEGIN:VEVENT
DTSTART;VALUE=DATE:20220423
DTEND;VALUE=DATE:20220425
DTSTAMP:20260424T165929
CREATED:20220305T083629Z
LAST-MODIFIED:20220305T083629Z
UID:2737-1650672000-1650844799@bikesportbuehne.de
SUMMARY:#2 MTB Bayernliga 2022 - Waldkirchen
DESCRIPTION:
URL:https://bikesportbuehne.de/event/2-mtb-bayernliga-2022-waldkirchen/
CATEGORIES:Renntermine
END:VEVENT
END:VCALENDAR