BEGIN:VCALENDAR
VERSION:2.0
PRODID:-//BikeSportBühne Bayreuth e.V. - ECPv6.15.20//NONSGML v1.0//EN
CALSCALE:GREGORIAN
METHOD:PUBLISH
X-ORIGINAL-URL:https://bikesportbuehne.de
X-WR-CALDESC:Veranstaltungen für BikeSportBühne Bayreuth e.V.
REFRESH-INTERVAL;VALUE=DURATION:PT1H
X-Robots-Tag:noindex
X-PUBLISHED-TTL:PT1H
BEGIN:VTIMEZONE
TZID:UTC
BEGIN:STANDARD
TZOFFSETFROM:+0000
TZOFFSETTO:+0000
TZNAME:UTC
DTSTART:20240101T000000
END:STANDARD
END:VTIMEZONE
BEGIN:VEVENT
DTSTART;TZID=UTC:20250801T130000
DTEND;TZID=UTC:20250803T140000
DTSTAMP:20260422T044511
CREATED:20260223T110819Z
LAST-MODIFIED:20260228T170717Z
UID:5244-1754053200-1754229600@bikesportbuehne.de
SUMMARY:BSB-Sommercamp Ochsenkopf 2025
DESCRIPTION:2025 wurde am Erfolgsrezept vom Vorjahr festgehalten\, wieder ging es am ersten Ferienwochenende zum Bullhead House.\nDieses mal war der Treffpunkt aber nicht „oben“ sondern wir sind von Bayreuth aus hochgefahren\, grade für die jüngeren war allein das schon echtes Erlebnis.\nUnd wieder hatten wir Glück mit dem Wetter und konnten die zum Biken perfekte Region ausgiebig nutzen und die Trails um den Ochsenkopf unsicher machen. Wobei natürlich nicht nur gefahren wurde\, sondern auch einzelne Sektionen konkret mehrfach trainiert wurden um die technischen Fähigkeiten zu verbessern. Wie im Vorjahr stand aber auch eine Nachtwanderung und viel Freizeit auf dem Programm.
URL:https://bikesportbuehne.de/event/bsb-sommercamp-ochsenkopf-2025/
CATEGORIES:Trainingsmaßnahmen
END:VEVENT
END:VCALENDAR