BEGIN:VCALENDAR
VERSION:2.0
PRODID:-//BikeSportBühne Bayreuth e.V. - ECPv6.15.20//NONSGML v1.0//EN
CALSCALE:GREGORIAN
METHOD:PUBLISH
X-WR-CALNAME:BikeSportBühne Bayreuth e.V.
X-ORIGINAL-URL:https://bikesportbuehne.de
X-WR-CALDESC:Veranstaltungen für BikeSportBühne Bayreuth e.V.
REFRESH-INTERVAL;VALUE=DURATION:PT1H
X-Robots-Tag:noindex
X-PUBLISHED-TTL:PT1H
BEGIN:VTIMEZONE
TZID:UTC
BEGIN:STANDARD
TZOFFSETFROM:+0000
TZOFFSETTO:+0000
TZNAME:UTC
DTSTART:20230101T000000
END:STANDARD
END:VTIMEZONE
BEGIN:VEVENT
DTSTART;VALUE=DATE:20240929
DTEND;VALUE=DATE:20240930
DTSTAMP:20260422T011847
CREATED:20240303T163936Z
LAST-MODIFIED:20240929T174731Z
UID:3760-1727568000-1727654399@bikesportbuehne.de
SUMMARY:#13 CUBE-Cup Scheßlitz
DESCRIPTION:Saisonfinale in Scheßlitz \n  \nZum Ende der Saison absolvierten unsere BSB-Kids am 29.09.24 in Scheßlitz ihr 4. Rennen innerhalb von 4 Wochen. Überraschend für alle waren die Bodenverhältnisse in Scheßlitz unerwartet weich\, Hagel am Vortag hat ganze Arbeit geleistet. Nach anfangs kühlen 3 °C und Nebel kämpfte sich die Sonne durch und bescherte uns allen am Fuße der Giechburg einen wundervollen Herbsttag. \nUnsere 20 Starter fuhren wieder gute Ergebnisse ein mit insgesamt 3 Siegen und 4 weiteren Podestplätzen. \nDie Ergebnisse im Einzelnen: \nU7w: 1. Helena\, 2. Ella\, 11. Luisa\, U7m: 6. Ilmo\, 21. Theo \nU9w: 1. Nila\, U9m:  1. Jakob\, 9. Enno\, 15. Emil\, 19. Finn \nU11m: 4. Leo\, 5. Luca\, 6. Toni\, 9. Bèla\, 16. Philipp \nU13m: 2. Levi S.\, 5. Levi N.\, 24. Mika \nU15w: 3. Hannah\, U15m: 4. Lenny \nWie sich die heutigen Ergebnisse auf die CubeCup-Gesamtwertung auswirken\, werden wir in den nächsten Tagen erfahren. Es bleibt spannend … \nStaffel: 3. BSB (Hannah\, Leo\, Levi S.) \nUm auch in der kommenden Saison wieder eine oder mehrere erfolgreiche BSB-Staffeln an den Start schicken zu können\, brauchen wir Mädels – du bist zwischen 9 und 14 Jahren und fährst gern Mountainbike? Dann schreib uns eine Email an schnuppern@bikesportbuehne.de und trainiere mit uns! \nNeben den Kinderstaffeln gab es heute auch eine Trainerstaffel\, gemischt aus den CubeCup-Vereinen. Die BSB wurde dabei von Jonny vertreten\, der zusammen mit Magdalena (Wunsiedel) und Marco (Hof) den Sieg einfahren konnte.
URL:https://bikesportbuehne.de/event/13-cube-cup-schesslitz-2/
CATEGORIES:Renntermine
END:VEVENT
END:VCALENDAR