BEGIN:VCALENDAR
VERSION:2.0
PRODID:-//BikeSportBühne Bayreuth e.V. - ECPv6.15.20//NONSGML v1.0//EN
CALSCALE:GREGORIAN
METHOD:PUBLISH
X-WR-CALNAME:BikeSportBühne Bayreuth e.V.
X-ORIGINAL-URL:https://bikesportbuehne.de
X-WR-CALDESC:Veranstaltungen für BikeSportBühne Bayreuth e.V.
REFRESH-INTERVAL;VALUE=DURATION:PT1H
X-Robots-Tag:noindex
X-PUBLISHED-TTL:PT1H
BEGIN:VTIMEZONE
TZID:UTC
BEGIN:STANDARD
TZOFFSETFROM:+0000
TZOFFSETTO:+0000
TZNAME:UTC
DTSTART:20230101T000000
END:STANDARD
END:VTIMEZONE
BEGIN:VEVENT
DTSTART;VALUE=DATE:20240727
DTEND;VALUE=DATE:20240728
DTSTAMP:20260421T220945
CREATED:20240303T163430Z
LAST-MODIFIED:20240825T144000Z
UID:3750-1722038400-1722124799@bikesportbuehne.de
SUMMARY:#8 CUBE-Cup Steinbach/ Wald
DESCRIPTION:Bayreuther Ergebnisse: \nU7w \n\n1. Helena Hagen\n2. Ella Panzer\n8. Luisa Slawik\n\nU7m \n\n5. Ilmo Barnickel\n12. Theo Bauer\n20. Theo Slawik\n\nU9w \n\n1. Nila Sabbarth\n\nU9m \n\n2. Jakob Schirner\n8. Enno Barnickel\n20. Emil Rasp\n\nU11m \n\n1. Leo Barnickel\n2. Luca Panzer\n3. Toni Eckert\n13. Bela Schlund\n18. Philipp Neumann\n\nU15m \n\n2. Lenny Schlund\n\nU17w \n\n2. Laura Popp\n\nDamen \n\n2. Hannah Riess\n\nHerren \n\n4. Max Riess\n\n  \n–> Alle Ergebnisse
URL:https://bikesportbuehne.de/event/8-cube-cup-steinbach-wald/
CATEGORIES:Renntermine
END:VEVENT
END:VCALENDAR