BEGIN:VCALENDAR
VERSION:2.0
PRODID:-//BikeSportBühne Bayreuth e.V. - ECPv6.15.20//NONSGML v1.0//EN
CALSCALE:GREGORIAN
METHOD:PUBLISH
X-WR-CALNAME:BikeSportBühne Bayreuth e.V.
X-ORIGINAL-URL:https://bikesportbuehne.de
X-WR-CALDESC:Veranstaltungen für BikeSportBühne Bayreuth e.V.
REFRESH-INTERVAL;VALUE=DURATION:PT1H
X-Robots-Tag:noindex
X-PUBLISHED-TTL:PT1H
BEGIN:VTIMEZONE
TZID:UTC
BEGIN:STANDARD
TZOFFSETFROM:+0000
TZOFFSETTO:+0000
TZNAME:UTC
DTSTART:20230101T000000
END:STANDARD
END:VTIMEZONE
BEGIN:VEVENT
DTSTART;VALUE=DATE:20240616
DTEND;VALUE=DATE:20240617
DTSTAMP:20260421T203958
CREATED:20240303T163223Z
LAST-MODIFIED:20240303T163223Z
UID:3746-1718496000-1718582399@bikesportbuehne.de
SUMMARY:#6 CUBE-Cup Marathon Trieb
DESCRIPTION:ab U17 \n–> Infos
URL:https://bikesportbuehne.de/event/6-cube-cup-marathon-trieb/
CATEGORIES:Renntermine
END:VEVENT
END:VCALENDAR