BEGIN:VCALENDAR
VERSION:2.0
PRODID:-//BikeSportBühne Bayreuth e.V. - ECPv6.15.20//NONSGML v1.0//EN
CALSCALE:GREGORIAN
METHOD:PUBLISH
X-ORIGINAL-URL:https://bikesportbuehne.de
X-WR-CALDESC:Veranstaltungen für BikeSportBühne Bayreuth e.V.
REFRESH-INTERVAL;VALUE=DURATION:PT1H
X-Robots-Tag:noindex
X-PUBLISHED-TTL:PT1H
BEGIN:VTIMEZONE
TZID:UTC
BEGIN:STANDARD
TZOFFSETFROM:+0000
TZOFFSETTO:+0000
TZNAME:UTC
DTSTART:20220101T000000
END:STANDARD
END:VTIMEZONE
BEGIN:VEVENT
DTSTART;VALUE=DATE:20231027
DTEND;VALUE=DATE:20231106
DTSTAMP:20260421T123010
CREATED:20240825T183910Z
LAST-MODIFIED:20240825T184323Z
UID:4048-1698364800-1699228799@bikesportbuehne.de
SUMMARY:"BSB & Friends" Kroatien 2023
DESCRIPTION:Heuer haben wir die Herbstferien genutzt um mit einem ausgiebigen Gundlagentrainigslager in Kroatien in den Formaufbau für die neue Saison zu starten. \nUnter dem Motto „BSB & Friends“ hatten wir auch ein paar Gäste dabei…
URL:https://bikesportbuehne.de/event/bsb-friends-kroatien-2023/
CATEGORIES:Trainingsmaßnahmen
END:VEVENT
END:VCALENDAR