BEGIN:VCALENDAR
VERSION:2.0
PRODID:-//BikeSportBühne Bayreuth e.V. - ECPv6.15.20//NONSGML v1.0//EN
CALSCALE:GREGORIAN
METHOD:PUBLISH
X-ORIGINAL-URL:https://bikesportbuehne.de
X-WR-CALDESC:Veranstaltungen für BikeSportBühne Bayreuth e.V.
REFRESH-INTERVAL;VALUE=DURATION:PT1H
X-Robots-Tag:noindex
X-PUBLISHED-TTL:PT1H
BEGIN:VTIMEZONE
TZID:UTC
BEGIN:STANDARD
TZOFFSETFROM:+0000
TZOFFSETTO:+0000
TZNAME:UTC
DTSTART:20220101T000000
END:STANDARD
END:VTIMEZONE
BEGIN:VEVENT
DTSTART;VALUE=DATE:20230722
DTEND;VALUE=DATE:20230724
DTSTAMP:20260421T141119
CREATED:20230105T203931Z
LAST-MODIFIED:20230105T203931Z
UID:3369-1689984000-1690156799@bikesportbuehne.de
SUMMARY:#5 Bundesnachwuchssichtung - Albstadt
DESCRIPTION:nur Cross-Country
URL:https://bikesportbuehne.de/event/5-bundesnachwuchssichtung-albstadt/
CATEGORIES:Renntermine
END:VEVENT
END:VCALENDAR