BEGIN:VCALENDAR
VERSION:2.0
PRODID:-//BikeSportBühne Bayreuth e.V. - ECPv6.15.20//NONSGML v1.0//EN
CALSCALE:GREGORIAN
METHOD:PUBLISH
X-WR-CALNAME:BikeSportBühne Bayreuth e.V.
X-ORIGINAL-URL:https://bikesportbuehne.de
X-WR-CALDESC:Veranstaltungen für BikeSportBühne Bayreuth e.V.
REFRESH-INTERVAL;VALUE=DURATION:PT1H
X-Robots-Tag:noindex
X-PUBLISHED-TTL:PT1H
BEGIN:VTIMEZONE
TZID:UTC
BEGIN:STANDARD
TZOFFSETFROM:+0000
TZOFFSETTO:+0000
TZNAME:UTC
DTSTART:20220101T000000
END:STANDARD
END:VTIMEZONE
BEGIN:VEVENT
DTSTART;VALUE=DATE:20230527
DTEND;VALUE=DATE:20230529
DTSTAMP:20260421T171705
CREATED:20230105T203734Z
LAST-MODIFIED:20230105T203734Z
UID:3365-1685145600-1685318399@bikesportbuehne.de
SUMMARY:#3 Bundesnachwuchssichtung - Gedern
DESCRIPTION:Samstag: Geschicklichkeitsparcours \nSonntag: Cross-Country
URL:https://bikesportbuehne.de/event/3-bundesnachwuchssichtung-gedern/
CATEGORIES:Renntermine
END:VEVENT
END:VCALENDAR