BEGIN:VCALENDAR
VERSION:2.0
PRODID:-//BikeSportBühne Bayreuth e.V. - ECPv6.15.20//NONSGML v1.0//EN
CALSCALE:GREGORIAN
METHOD:PUBLISH
X-WR-CALNAME:BikeSportBühne Bayreuth e.V.
X-ORIGINAL-URL:https://bikesportbuehne.de
X-WR-CALDESC:Veranstaltungen für BikeSportBühne Bayreuth e.V.
REFRESH-INTERVAL;VALUE=DURATION:PT1H
X-Robots-Tag:noindex
X-PUBLISHED-TTL:PT1H
BEGIN:VTIMEZONE
TZID:UTC
BEGIN:STANDARD
TZOFFSETFROM:+0000
TZOFFSETTO:+0000
TZNAME:UTC
DTSTART:20220101T000000
END:STANDARD
END:VTIMEZONE
BEGIN:VEVENT
DTSTART;VALUE=DATE:20230506
DTEND;VALUE=DATE:20230508
DTSTAMP:20260421T171608
CREATED:20230203T174346Z
LAST-MODIFIED:20230508T191533Z
UID:3395-1683331200-1683503999@bikesportbuehne.de
SUMMARY:Bayreuther MTB-Race-Weekend 2023
DESCRIPTION:Samstag: Bayerische Meisterschaft XCE – Eliminator Sprint \nErgebnisse Qualifikation \nErgebnisse Final \nSonntag: CUBE-Cup und XCO-Bikecup mit Austragung der Bayreuther Stadtmeisterschaft \nErgebnisse XCO-Rennen \nErgebnisse Technikparcours: \nU11w \nU11m \nU13w \nU13m \nU15w \nU15m \nHier findet ihr die Ausschreibung und alle relevanten Informationen zur Veranstaltung … einfach daufklicken! \n \nHaftungsausschluss \nZur Anmeldung \nStartliste XCE – Qualifikation (mit Startzeiten) \n  \nStreckenplan U11/U13 \nStreckenplan U15 \nStreckenplan U9/ Staffel und XCE \nStreckenplan U7 \nStreckenplan ab U17 \n  \n \n    \n  \n 
URL:https://bikesportbuehne.de/event/bayreuther-mtb-race-weekend-2023/
CATEGORIES:Veranstaltungen
END:VEVENT
END:VCALENDAR