BEGIN:VCALENDAR
VERSION:2.0
PRODID:-//BikeSportBühne Bayreuth e.V. - ECPv6.15.20//NONSGML v1.0//EN
CALSCALE:GREGORIAN
METHOD:PUBLISH
X-ORIGINAL-URL:https://bikesportbuehne.de
X-WR-CALDESC:Veranstaltungen für BikeSportBühne Bayreuth e.V.
REFRESH-INTERVAL;VALUE=DURATION:PT1H
X-Robots-Tag:noindex
X-PUBLISHED-TTL:PT1H
BEGIN:VTIMEZONE
TZID:UTC
BEGIN:STANDARD
TZOFFSETFROM:+0000
TZOFFSETTO:+0000
TZNAME:UTC
DTSTART:20210101T000000
END:STANDARD
END:VTIMEZONE
BEGIN:VEVENT
DTSTART;VALUE=DATE:20220626
DTEND;VALUE=DATE:20220627
DTSTAMP:20260424T154607
CREATED:20220305T082242Z
LAST-MODIFIED:20220305T083212Z
UID:2702-1656201600-1656287999@bikesportbuehne.de
SUMMARY:#6 CUBE-Cup 2022 - Marathon Trieb (ab U17)
DESCRIPTION:Link zur Ausschreibung
URL:https://bikesportbuehne.de/event/6-cube-cup-2022-marathon-trieb-ab-u17/
CATEGORIES:Renntermine
END:VEVENT
END:VCALENDAR