BEGIN:VCALENDAR
VERSION:2.0
PRODID:-//BikeSportBühne Bayreuth e.V. - ECPv6.15.20//NONSGML v1.0//EN
CALSCALE:GREGORIAN
METHOD:PUBLISH
X-WR-CALNAME:BikeSportBühne Bayreuth e.V.
X-ORIGINAL-URL:https://bikesportbuehne.de
X-WR-CALDESC:Veranstaltungen für BikeSportBühne Bayreuth e.V.
REFRESH-INTERVAL;VALUE=DURATION:PT1H
X-Robots-Tag:noindex
X-PUBLISHED-TTL:PT1H
BEGIN:VTIMEZONE
TZID:UTC
BEGIN:STANDARD
TZOFFSETFROM:+0000
TZOFFSETTO:+0000
TZNAME:UTC
DTSTART:20210101T000000
END:STANDARD
END:VTIMEZONE
BEGIN:VEVENT
DTSTART;VALUE=DATE:20220501
DTEND;VALUE=DATE:20220502
DTSTAMP:20260424T165746
CREATED:20220305T081953Z
LAST-MODIFIED:20220501T191328Z
UID:2691-1651363200-1651449599@bikesportbuehne.de
SUMMARY:#2 CUBE-Cup 2022 - Trieb
DESCRIPTION:Überzeugender Saisonauftakt vom Nachwuchs der BikeSportBühne Bayreuth \nEndlich hat auch die Rennsaison für den Bayreuther Nachwuchs begonnen. Und wie fleißig alle über den Winter trainiert haben\, zeigen die sehr guten Ergebnisse aus Trieb. In jedem Rennen\, wo ein Bayreuther teilnahm\, gab es auch einen Podestplatz. Das Rennen in Trieb war mit insgesamt über 200 Teilnehmern sehr gut besucht. Mit 20 Startern stellte die BSB die meisten Fahrer. \nDen Anfang machte Nila Sabbarth in der U7. Sie fuhr gleich auf Platz eins. Bei den Jungs konnte sich Jakob Schirner Platz 1 sichern\, knapp dahinter auf Platz 3 folgte Enno Barnickel. \nIn der U9m gab es einen souveränen Vierfacherfolg der BSB. Luca Panzer kam vor Fredrik Schmidt\, Béla Schlund und Leo Barnickel ins Ziel. Vinzent Lengenfelder komplettierte das starke Ergebnis mit Platz 8. \nIn der weiblichen U11 trat Marie Viktoria Pankse für die BSB an und wurde 2. Im größten Feld des Tages\, der U11m\, mit über 30 Teilnehmern\, fuhr Levi Sabbarth als dritter über die Ziellinie. Mika Partenfelder wurde 12\, Nils Scharl 20 und Johann Kaindl 26. \nBei der U13m stellte sich Fritz Eismann als dritter aufs Podest. Lenny Schlund überquerte die Ziellinie als 6 und Leopold Pankse als 8. \nBei den Nachmittagsrennen in der U17w wurde Amelie Knauer 2. Philipp Pleschko fuhr bei den Jungs einen Start-Ziel-Sieg ein. \nIn der U19 konnte Niklas Popp sich den Sieg holen. Max Riess folgte auf Platz 4.
URL:https://bikesportbuehne.de/event/2-cube-cup-2022-trieb/
CATEGORIES:Renntermine
END:VEVENT
END:VCALENDAR