BEGIN:VCALENDAR
VERSION:2.0
PRODID:-//BikeSportBühne Bayreuth e.V. - ECPv6.15.20//NONSGML v1.0//EN
CALSCALE:GREGORIAN
METHOD:PUBLISH
X-WR-CALNAME:BikeSportBühne Bayreuth e.V.
X-ORIGINAL-URL:https://bikesportbuehne.de
X-WR-CALDESC:Veranstaltungen für BikeSportBühne Bayreuth e.V.
REFRESH-INTERVAL;VALUE=DURATION:PT1H
X-Robots-Tag:noindex
X-PUBLISHED-TTL:PT1H
BEGIN:VTIMEZONE
TZID:UTC
BEGIN:STANDARD
TZOFFSETFROM:+0000
TZOFFSETTO:+0000
TZNAME:UTC
DTSTART:20190101T000000
END:STANDARD
END:VTIMEZONE
BEGIN:VEVENT
DTSTART;VALUE=DATE:20201009
DTEND;VALUE=DATE:20201012
DTSTAMP:20260425T221006
CREATED:20191217T181245Z
LAST-MODIFIED:20200529T072612Z
UID:1819-1602201600-1602460799@bikesportbuehne.de
SUMMARY:Weltmeisterschaft MTB Dowhnill/ XCO - Leogang
DESCRIPTION:
URL:https://bikesportbuehne.de/event/weltmeisterschaft-mtb-dowhnill-leogang/
CATEGORIES:Renntermine
END:VEVENT
END:VCALENDAR